BEGIN:VCALENDAR
VERSION:2.0
PRODID:-//fairNETZt - ECPv6.5.1.3//NONSGML v1.0//EN
CALSCALE:GREGORIAN
METHOD:PUBLISH
X-WR-CALNAME:fairNETZt
X-ORIGINAL-URL:https://test.fairnetzt-loerrach.de
X-WR-CALDESC:Veranstaltungen für fairNETZt
REFRESH-INTERVAL;VALUE=DURATION:PT1H
X-Robots-Tag:noindex
X-PUBLISHED-TTL:PT1H
BEGIN:VTIMEZONE
TZID:Europe/Berlin
BEGIN:DAYLIGHT
TZOFFSETFROM:+0100
TZOFFSETTO:+0200
TZNAME:CEST
DTSTART:20240331T010000
END:DAYLIGHT
BEGIN:STANDARD
TZOFFSETFROM:+0200
TZOFFSETTO:+0100
TZNAME:CET
DTSTART:20241027T010000
END:STANDARD
END:VTIMEZONE
BEGIN:VEVENT
DTSTART;TZID=Europe/Berlin:20241129T160000
DTEND;TZID=Europe/Berlin:20241129T180000
DTSTAMP:20260425T053942
CREATED:20241106T163953Z
LAST-MODIFIED:20241106T215210Z
UID:21176-1732896000-1732903200@test.fairnetzt-loerrach.de
SUMMARY:Weihnachtskarten mit Wasserfarbe selbst malen
DESCRIPTION:Gestalte zauberhafte Weihnachtskarten und Geschenkanhänger mit Wasserfarben! In diesem Kurs zeigt Euch die Künstlerin Irene Pacha\, wie Ihr mit Wasserfarben zwei klassische Weihnachtsmotive – Kränze und Weihnachtskugeln – in den festlichen Farben Rot und Grün malt. Schritt für Schritt lernt Ihr grundlegende Techniken des Malens mit Wasserfarben kennen und erstellt Eure eigenen kunstvollen Weihnachtskarten und Geschenkanhänger. Ein Kurs voller Kreativität und Weihnachtsstimmung – perfekt für Einsteiger*innen und Hobbykünstler*innen!\nUnd dazu noch in entspannter Atmosphäre einen heißen Tee oder einen leckeren Kaffee trinken. \nKosten: 20€ + Material \nAnmeldung hier: cafe.kirche.loerrach@gmail.com \n 
URL:https://test.fairnetzt-loerrach.de/veranstaltung/weihnachtskarten-mit-wasserfarbe-selbst-malen/
LOCATION:Café Kirche\, Alte Feuerwache\, Burghof 2\, Lörrach\, 79539
CATEGORIES:Café Kirche
ATTACH;FMTTYPE=image/jpeg:https://test.fairnetzt-loerrach.de/wp-content/uploads/2024/11/weihnachtskranz.jpg
END:VEVENT
END:VCALENDAR