BEGIN:VCALENDAR
VERSION:2.0
PRODID:-//fairNETZt - ECPv6.5.1.3//NONSGML v1.0//EN
CALSCALE:GREGORIAN
METHOD:PUBLISH
X-WR-CALNAME:fairNETZt
X-ORIGINAL-URL:https://test.fairnetzt-loerrach.de
X-WR-CALDESC:Veranstaltungen für fairNETZt
REFRESH-INTERVAL;VALUE=DURATION:PT1H
X-Robots-Tag:noindex
X-PUBLISHED-TTL:PT1H
BEGIN:VTIMEZONE
TZID:Europe/Berlin
BEGIN:DAYLIGHT
TZOFFSETFROM:+0100
TZOFFSETTO:+0200
TZNAME:CEST
DTSTART:20210328T010000
END:DAYLIGHT
BEGIN:STANDARD
TZOFFSETFROM:+0200
TZOFFSETTO:+0100
TZNAME:CET
DTSTART:20211031T010000
END:STANDARD
END:VTIMEZONE
BEGIN:VEVENT
DTSTART;TZID=Europe/Berlin:20210202T200000
DTEND;TZID=Europe/Berlin:20210202T220000
DTSTAMP:20260422T011520
CREATED:20201218T192724Z
LAST-MODIFIED:20201218T192724Z
UID:15265-1612296000-1612303200@test.fairnetzt-loerrach.de
SUMMARY:fairNETZt Wandel-Plenum der Gruppen & Initiativen (alle 2 Monate)
DESCRIPTION:Seid ihr im Raum Lörrach in Initiativen unterwegs\, die den Wandel hin zu einem „besseren Leben“ stärken\, den ökologischen Fußabdruck reduzieren\, sich für Demokratie\, Partizipation und Transparenz einsetzen und/oder den sozialen Zusammenhalt fördern? \nMöchtet ihr mit anderen Initiativen zusammen kommen\, um von einander zu lernen oder gemeinsam neue Aktionen vorzubereiten? \nWollt ihr andere mutige Menschen kennenlernen\, die abseits der ausgetretenen Pfade an innovativen Lösungen arbeiten? \nLasst ihr auch mal Fünf gerade sein und setzt euch für die Belange eurer Nachbarn ein? \nDann werdet ihr beim Wandel-Plenum mit offenen Armen empfangen. Das Plenum ist der Ort für die Wandelgestalter in Lörrach. Alle zwei Monate gibt es hier eine Übersicht darüber\, was gerade an gesellschaftspolitisch relevanten Themen in Lörrach läuft\, wo der Schuh drückt\, was die verschiedenen Initiativen gerade planen und was wir gemeinsam angehen können. \nLörracher Gruppen\, Initiativen und engagierte Bürger*innen und Nachbar*innen sind herzlich eingeladen. Auf bald !
URL:https://test.fairnetzt-loerrach.de/veranstaltung/fairnetzt-plenum-alle-2-monate-feb-21/
LOCATION:online
CATEGORIES:fairNETZt
ATTACH;FMTTYPE=image/png:https://test.fairnetzt-loerrach.de/wp-content/uploads/2017/02/fairnetzt-puzzle-kugel.png
ORGANIZER;CN="fairNETZt":MAILTO:info@fairnetzt-loerrach.de
END:VEVENT
BEGIN:VEVENT
DTSTART;TZID=Europe/Berlin:20210210T190000
DTEND;TZID=Europe/Berlin:20210210T210000
DTSTAMP:20260422T011520
CREATED:20200928T222430Z
LAST-MODIFIED:20200928T232906Z
UID:14735-1612983600-1612990800@test.fairnetzt-loerrach.de
SUMMARY:Council - der große Rat
DESCRIPTION:mit dem Herzen hören und sprechen\, spontan und essentiell\nWorkshop in der Maaßen-Stiftung in Steinen\, Dauer ca. 2 Stunden\nWir wollen eine uralte Kommunikationsform neu entdecken.\n„Council“ ist eine gemeinschaftliche\, gewaltfreie Kommunikationsform in Gruppen\, die das Zuhören in den Mittelpunkt stellt und mit „zu Rate sitzen“ übersetzt werden könnte. Council ist ein Weg zur Förderung der Selbstachtung und Selbstachtsamkeit des Einzelnen\, sowie der Kommunikation miteinander und anderen Beteiligten. Council ist ein Ritual mit klarem Anfang und klarem Ende. Wir sitzen im Kreis um eine „Mitte“ und nutzen einen Redestab. \nCouncil basiert auf vier Säulen: \n– Sprich aus dem Herzen \n– Höre mit dem Herzen \n– Sprich aus dem Moment \n– Sage das Wesentliche \nDer Workshop beginnt mit einer kleinen Einführung in die Historie\, die Prinzipien und die Elemente des Council. Dann folgt eine „bewegte“ Achtsamkeitsübung\, die uns auf die Praxis des Councils vorbereitet. Den Hauptteil bilden mehrere Council-Runden über essenzielle Lebensfragen. Hierbei entsteht durch die Beiträge aller ein „gemeinsamer Geist“\, von dem jeder am Ende die eine oder andere neue Erkenntnis mitnehmen kann. \n\n \n  \nSeminarleitung: Isabell Schäfer-Neudeck \nAnmeldung erforderlich an isabell@kraftimwandel.de \n  \nWeitere Termine sind jeweils am 2. Mittwoch im Monat vorgesehen\nam 10.03. | 14.04. | 12.05. | 09.06. | 14.07. | 13.10. | 10.11. | 08.12.
URL:https://test.fairnetzt-loerrach.de/veranstaltung/council-der-grosse-rat-2/
LOCATION:Maaßen-Stiftung\, Kanderner Straße 37/1\, Steinen\, 79585\, Deutschland
CATEGORIES:fairNETZt,WERKSTATT für ein Gutes Leben
ATTACH;FMTTYPE=image/jpeg:https://test.fairnetzt-loerrach.de/wp-content/uploads/2020/09/john-mark-arnold-mvnruuks6na-unsplash.jpg
END:VEVENT
BEGIN:VEVENT
DTSTART;TZID=Europe/Berlin:20210217T080000
DTEND;TZID=Europe/Berlin:20210217T170000
DTSTAMP:20260422T011520
CREATED:20210217T194718Z
LAST-MODIFIED:20210217T194721Z
UID:15550-1613548800-1613581200@test.fairnetzt-loerrach.de
SUMMARY:Einladung zur Online Podiumsdiskussion von Fridays for Future Lörrac
DESCRIPTION:Unter der Fragestellung „Mehr Klimaschutz – Wie wird BW zum Vorreiter?“ diskutieren kommenden Freitag\, dem 19.02.2021 um 18 Uhr Aktivistinnen von Fridays for Future Lörrach mit den Landtagswahlkandidaten Christof Nitz (CDU)\, Josha Frey (Bündnis 90/die Grünen) und Jonas Hoffmann (SPD) per Zoom. Moderiert wird die Veranstaltung\, die gleichzeitig auch das 2-jährige Jubiläum von Fridays for Future Lörrach darstellt\, von Mechthild Beucke-Galm. \nDer Fokus der Diskussion wird darauf liegen\, welche Maßnahmen in der kommenden Legislaturperiode ergriffen werden müssen\, da diese maßgeblich darüber entscheiden werden\, ob Baden-Württemberg seinen Teil zum 1\,5 Grad-Ziel beitragen wird. Die Vertreter der Parteien sind dazu eingeladen ihre Ideen\, Meinungen und Vorschläge zu den verschiedensten Themen wie Mobilität\, Wirtschaft oder Finanzen einzubringen. \nDamit schließt sich Fridays for Future Lörrach vielen anderen Aktivist*innen in Baden-Württemberg an\, die mit den verschiedensten Aktionen unter dem Motto #KlimaWähltGerechtigkeit auf die Relevanz der Landtagswahl aufmerksam machen. Alle Bürger*innen sind dazu aufgerufen ihrer Verantwortung gerecht zu werden\, aber gleichzeitig auch ihre Chance zu ergreifen mit ihrer Stimme bei der Landtagswahl mehr Klimaschutz zu bewirken. \nFridays for Future-Lörrach lädt Sie herzlich dazu ein\, die Podiumsdiskussion via Zoom mitzuverfolgen. Melden Sie sich bitte im Voraus unter loerrach@fridaysforfuture.is an\, damit Sie die Zugangsdaten erhalten. \nDie Forderungen von Fridays for Future Baden-Württemberg\, genauso wie den Klimawahlcheck der zusammen mit den Scientists for Future erstellt wurde\, finden Sie unter Forderungen – Fridays for Future Baden Württemberg (fridaysforfuture-bw.de)
URL:https://test.fairnetzt-loerrach.de/veranstaltung/einladung-zur-online-podiumsdiskussion-von-fridays-for-future-loerrac/
LOCATION:Baden-Württemberg
CATEGORIES:Fridays for Future,Grandparents for Future,Parents for Future
ATTACH;FMTTYPE=image/jpeg:https://test.fairnetzt-loerrach.de/wp-content/uploads/2021/02/whatsapp-image-2021-02-17-at-193342.jpeg
END:VEVENT
BEGIN:VEVENT
DTSTART;TZID=Europe/Berlin:20210219T180000
DTEND;TZID=Europe/Berlin:20210219T193000
DTSTAMP:20260422T011520
CREATED:20210217T200541Z
LAST-MODIFIED:20210217T200544Z
UID:15552-1613757600-1613763000@test.fairnetzt-loerrach.de
SUMMARY:Einladung zur Online Podiumsdiskussion von Fridays for Future Lörrach
DESCRIPTION:Unter der Fragestellung „Mehr Klimaschutz – Wie wird BW zum Vorreiter?“ diskutieren kommenden Freitag\, dem 19.02.2021 um 18 Uhr Aktivistinnen von Fridays for Future Lörrach mit den Landtagswahlkandidaten Christof Nitz (CDU)\, Josha Frey (Bündnis 90/die Grünen) und Jonas Hoffmann (SPD) per Zoom. Moderiert wird die Veranstaltung\, die gleichzeitig auch das 2-jährige Jubiläum von Fridays for Future Lörrach darstellt\, von Mechthild Beucke-Galm. \nDer Fokus der Diskussion wird darauf liegen\, welche Maßnahmen in der kommenden Legislaturperiode ergriffen werden müssen\, da diese maßgeblich darüber entscheiden werden\, ob Baden-Württemberg seinen Teil zum 1\,5 Grad-Ziel beitragen wird. Die Vertreter der Parteien sind dazu eingeladen ihre Ideen\, Meinungen und Vorschläge zu den verschiedensten Themen wie Mobilität\, Wirtschaft oder Finanzen einzubringen. \nDamit schließt sich Fridays for Future Lörrach vielen anderen Aktivist*innen in Baden-Württemberg an\, die mit den verschiedensten Aktionen unter dem Motto #KlimaWähltGerechtigkeit auf die Relevanz der Landtagswahl aufmerksam machen. Alle Bürger*innen sind dazu aufgerufen ihrer Verantwortung gerecht zu werden\, aber gleichzeitig auch ihre Chance zu ergreifen mit ihrer Stimme bei der Landtagswahl mehr Klimaschutz zu bewirken. \nFridays for Future-Lörrach lädt Sie herzlich dazu ein\, die Podiumsdiskussion via Zoom mitzuverfolgen. Melden Sie sich bitte im Voraus unter loerrach@fridaysforfuture.is an\, damit Sie die Zugangsdaten erhalten. \nDie Forderungen von Fridays for Future Baden-Württemberg\, genauso wie den Klimawahlcheck der zusammen mit den Scientists for Future erstellt wurde\, finden Sie unter Forderungen – Fridays for Future Baden Württemberg (fridaysforfuture-bw.de)
URL:https://test.fairnetzt-loerrach.de/veranstaltung/einladung-zur-online-podiumsdiskussion-von-fridays-for-future-loerrach/
LOCATION:Baden-Württemberg
CATEGORIES:Fridays for Future,Grandparents for Future,Parents for Future
ATTACH;FMTTYPE=image/jpeg:https://test.fairnetzt-loerrach.de/wp-content/uploads/2021/02/whatsapp-image-2021-02-17-at-193342.jpeg
END:VEVENT
END:VCALENDAR