BEGIN:VCALENDAR
VERSION:2.0
PRODID:-//fairNETZt - ECPv6.5.1.3//NONSGML v1.0//EN
CALSCALE:GREGORIAN
METHOD:PUBLISH
X-WR-CALNAME:fairNETZt
X-ORIGINAL-URL:https://test.fairnetzt-loerrach.de
X-WR-CALDESC:Veranstaltungen für fairNETZt
REFRESH-INTERVAL;VALUE=DURATION:PT1H
X-Robots-Tag:noindex
X-PUBLISHED-TTL:PT1H
BEGIN:VTIMEZONE
TZID:Europe/Berlin
BEGIN:DAYLIGHT
TZOFFSETFROM:+0100
TZOFFSETTO:+0200
TZNAME:CEST
DTSTART:20200329T010000
END:DAYLIGHT
BEGIN:STANDARD
TZOFFSETFROM:+0200
TZOFFSETTO:+0100
TZNAME:CET
DTSTART:20201025T010000
END:STANDARD
END:VTIMEZONE
BEGIN:VEVENT
DTSTART;TZID=Europe/Berlin:20201209T193000
DTEND;TZID=Europe/Berlin:20201209T210000
DTSTAMP:20260422T141756
CREATED:20201123T082258Z
LAST-MODIFIED:20201201T135344Z
UID:15130-1607542200-1607547600@test.fairnetzt-loerrach.de
SUMMARY:Gemeinwohl-Ökonomie Regionalgruppe Lörrach - Onboarding
DESCRIPTION:Die Bewegung der Gemeinwohl-Ökomomie ist 10 Jahre alt und hat so Einiges erreicht. In Baden-Württemberg wollen wir in diesem Jahr unser 1000stes Mitglied begrüßen! \nAuch die Regional-Gruppe in Lörrach hat Zuwachs. Deshalb informieren wir an diesem Abend über die Möglichkeiten\, in der Gemeinwohl-Bewegung allgemein und ganz konkret in der Regionalgruppe Lörrach aktiv zu werden. \nDazu habe ich mit Lutz Knakrügge diesen Online-Abend zum ONBOARDING vorbereitet. Lutz ist nahezu seit Anbeginn der Gemeinwohl-Ökonomie aktiv\, seit langem im Matrix-Entwicklungsteam MET und hier in Lörrach bekannt u.a. durch seinen Einsatz für die Gemeinwohl-Gemeinde. \nAn dem Abend geben wir eine kurze Einführung in die Gemeinwohl-Ökonomie und beantworten möglichst viele Eurer / Ihrer Fragen. Je nach Bedarf vertiefen wir die Bereiche „Gemeinwohl-Gemeinde“ und „Unternehmens-Bilanzierung“. Und dann überlegen wir gemeinsam\, was hier in Südbaden als nächste Schritte für uns anstehen. \nInteressent*innen wenden sich bitte an: Hartmut.Schaefer@ecogood.org
URL:https://test.fairnetzt-loerrach.de/veranstaltung/gemeinwohl-oekonomie-regionalgruppe-loerrach-onboarding/
LOCATION:Baden-Württemberg
CATEGORIES:Gemeinwohl-Ökonomie
ATTACH;FMTTYPE=image/png:https://test.fairnetzt-loerrach.de/wp-content/uploads/2020/11/1000-aktive-gwo-bawu.png
END:VEVENT
END:VCALENDAR