BEGIN:VCALENDAR
VERSION:2.0
PRODID:-//fairNETZt - ECPv6.5.1.3//NONSGML v1.0//EN
CALSCALE:GREGORIAN
METHOD:PUBLISH
X-WR-CALNAME:fairNETZt
X-ORIGINAL-URL:https://test.fairnetzt-loerrach.de
X-WR-CALDESC:Veranstaltungen für fairNETZt
REFRESH-INTERVAL;VALUE=DURATION:PT1H
X-Robots-Tag:noindex
X-PUBLISHED-TTL:PT1H
BEGIN:VTIMEZONE
TZID:Europe/Berlin
BEGIN:DAYLIGHT
TZOFFSETFROM:+0100
TZOFFSETTO:+0200
TZNAME:CEST
DTSTART:20190331T010000
END:DAYLIGHT
BEGIN:STANDARD
TZOFFSETFROM:+0200
TZOFFSETTO:+0100
TZNAME:CET
DTSTART:20191027T010000
END:STANDARD
END:VTIMEZONE
BEGIN:VEVENT
DTSTART;TZID=Europe/Berlin:20190504T090000
DTEND;TZID=Europe/Berlin:20190504T140000
DTSTAMP:20260424T112800
CREATED:20190225T140937Z
LAST-MODIFIED:20190225T140937Z
UID:10531-1556960400-1556978400@test.fairnetzt-loerrach.de
SUMMARY:Blumenmarkt Lörrach
DESCRIPTION:Am Rande des beliebten Blumenmarktes ist der BUND zusammen mit dem NABU mit einem Stand vertreten. Dort finden Sie eine große Anzahl heimischer Wildpflanzen wie auch Informations¬material. Wir beraten Sie dabei gerne und tauschen mit Ihnen Erfahrungen aus.
URL:https://test.fairnetzt-loerrach.de/veranstaltung/blumenmarkt-loerrach/
LOCATION:Alter Markt\, Lörrach\, Basler Strasse 194\, Lörrach\, 79539\, Deutschland
CATEGORIES:BUND
ATTACH;FMTTYPE=image/jpeg:https://test.fairnetzt-loerrach.de/wp-content/uploads/2019/02/blumenmarkt.jpg
END:VEVENT
END:VCALENDAR