BEGIN:VCALENDAR
VERSION:2.0
PRODID:-//fairNETZt - ECPv6.5.1.3//NONSGML v1.0//EN
CALSCALE:GREGORIAN
METHOD:PUBLISH
X-ORIGINAL-URL:https://test.fairnetzt-loerrach.de
X-WR-CALDESC:Veranstaltungen für fairNETZt
REFRESH-INTERVAL;VALUE=DURATION:PT1H
X-Robots-Tag:noindex
X-PUBLISHED-TTL:PT1H
BEGIN:VTIMEZONE
TZID:Europe/Berlin
BEGIN:DAYLIGHT
TZOFFSETFROM:+0100
TZOFFSETTO:+0200
TZNAME:CEST
DTSTART:20240331T010000
END:DAYLIGHT
BEGIN:STANDARD
TZOFFSETFROM:+0200
TZOFFSETTO:+0100
TZNAME:CET
DTSTART:20241027T010000
END:STANDARD
END:VTIMEZONE
BEGIN:VEVENT
DTSTART;TZID=Europe/Berlin:20240707T163000
DTEND;TZID=Europe/Berlin:20240707T180000
DTSTAMP:20260423T054503
CREATED:20240702T121219Z
LAST-MODIFIED:20240702T121219Z
UID:20456-1720369800-1720375200@test.fairnetzt-loerrach.de
SUMMARY:Fitness mit Téo
DESCRIPTION:Fitness mit Téo für die ganze Familie. Kinder\, Eltern\, Jugendliche\, Singels – alle sind herzlich willkommen. \nAlle zwei Wochen sonntags\, außer in den Schulferien.
URL:https://test.fairnetzt-loerrach.de/veranstaltung/20373-2/
LOCATION:Rosenfelshalle\, Philippe-Suchard-Str. 15-21\, Lörrach\, 79540
CATEGORIES:Welt Aktiv
ATTACH;FMTTYPE=image/jpeg:https://test.fairnetzt-loerrach.de/wp-content/uploads/2024/06/20240109-163720.jpg
END:VEVENT
BEGIN:VEVENT
DTSTART;TZID=Europe/Berlin:20240709T153000
DTEND;TZID=Europe/Berlin:20240709T173000
DTSTAMP:20260423T054503
CREATED:20240702T121456Z
LAST-MODIFIED:20240702T121456Z
UID:20460-1720539000-1720546200@test.fairnetzt-loerrach.de
SUMMARY:Integrationssport
DESCRIPTION:Fußball verbindet die Welt – komm\, mach mit. \nTéo traniert fachkundig ein internationales Team. Jungs und Mädchen aller Altersgruppen und aller Nationen sind herzlich willkommen! \nJeden Dienstag\, außer in den Schulferien\, von 15:30 – 17:30 Uhr.
URL:https://test.fairnetzt-loerrach.de/veranstaltung/integrationssport-2/
LOCATION:Wintersbuckhalle\, Wintersbuckstr. 5\, Lörrach\, 79539\, Deutschland
CATEGORIES:Welt Aktiv
ATTACH;FMTTYPE=image/jpeg:https://test.fairnetzt-loerrach.de/wp-content/uploads/2024/06/20240109-163625.jpg
END:VEVENT
BEGIN:VEVENT
DTSTART;TZID=Europe/Berlin:20240721T163000
DTEND;TZID=Europe/Berlin:20240721T180000
DTSTAMP:20260423T054503
CREATED:20240702T121315Z
LAST-MODIFIED:20240702T121315Z
UID:20458-1721579400-1721584800@test.fairnetzt-loerrach.de
SUMMARY:Fitness mit Téo
DESCRIPTION:Fitness mit Téo für die ganze Familie. Kinder\, Eltern\, Jugendliche\, Singels – alle sind herzlich willkommen. \nAlle zwei Wochen sonntags\, außer in den Schulferien.
URL:https://test.fairnetzt-loerrach.de/veranstaltung/20373-2-2/
LOCATION:Rosenfelshalle\, Philippe-Suchard-Str. 15-21\, Lörrach\, 79540
CATEGORIES:Welt Aktiv
ATTACH;FMTTYPE=image/jpeg:https://test.fairnetzt-loerrach.de/wp-content/uploads/2024/06/20240109-163720.jpg
END:VEVENT
BEGIN:VEVENT
DTSTART;TZID=Europe/Berlin:20240723T153000
DTEND;TZID=Europe/Berlin:20240723T173000
DTSTAMP:20260423T054503
CREATED:20240702T121644Z
LAST-MODIFIED:20240702T121644Z
UID:20464-1721748600-1721755800@test.fairnetzt-loerrach.de
SUMMARY:Integrationssport
DESCRIPTION:Fußball verbindet die Welt – komm\, mach mit. \nTéo traniert fachkundig ein internationales Team. Jungs und Mädchen aller Altersgruppen und aller Nationen sind herzlich willkommen! \nJeden Dienstag\, außer in den Schulferien\, von 15:30 – 17:30 Uhr.
URL:https://test.fairnetzt-loerrach.de/veranstaltung/integrationssport-2-2-2/
LOCATION:Wintersbuckhalle\, Wintersbuckstr. 5\, Lörrach\, 79539\, Deutschland
CATEGORIES:Welt Aktiv
ATTACH;FMTTYPE=image/jpeg:https://test.fairnetzt-loerrach.de/wp-content/uploads/2024/06/20240109-163625.jpg
END:VEVENT
END:VCALENDAR