BEGIN:VCALENDAR
VERSION:2.0
PRODID:-//fairNETZt - ECPv6.5.1.3//NONSGML v1.0//EN
CALSCALE:GREGORIAN
METHOD:PUBLISH
X-ORIGINAL-URL:https://test.fairnetzt-loerrach.de
X-WR-CALDESC:Veranstaltungen für fairNETZt
REFRESH-INTERVAL;VALUE=DURATION:PT1H
X-Robots-Tag:noindex
X-PUBLISHED-TTL:PT1H
BEGIN:VTIMEZONE
TZID:Europe/Berlin
BEGIN:DAYLIGHT
TZOFFSETFROM:+0100
TZOFFSETTO:+0200
TZNAME:CEST
DTSTART:20210328T010000
END:DAYLIGHT
BEGIN:STANDARD
TZOFFSETFROM:+0200
TZOFFSETTO:+0100
TZNAME:CET
DTSTART:20211031T010000
END:STANDARD
END:VTIMEZONE
BEGIN:VEVENT
DTSTART;TZID=Europe/Berlin:20211111T180000
DTEND;TZID=Europe/Berlin:20211111T210000
DTSTAMP:20260425T191214
CREATED:20210823T135137Z
LAST-MODIFIED:20210823T151504Z
UID:16433-1636653600-1636664400@test.fairnetzt-loerrach.de
SUMMARY:VHS Seminarreihe: Localise SDGs
DESCRIPTION:Was sind die 17 Ziele für nachhaltige Entwicklung und\nwie können wir sie lokal umsetzen?\nvierteilige VHS-Seminarreihe in Steinen\n2015 verabschieden193 Mitgliedstaaten der Vereinten Nationen die Agenda 2030 mit den\n17 Zielen für nachhaltige Entwicklung (SDGs\, Sustainable Development Goals). Sie sind ein „Weltzukunftsvertrag“\, mit dem sich die Staaten dazu verpflichten\, allen Menschen bis zum Jahr 2030 ein Leben in Würde\, Frieden und einer intakten Umwelt zu sichern. Schlussendlich bedeutet das auch für uns in Deutschland\, unsere Lebensweise zu verändern. \nIn dieser Seminarreihe wollen wir die umfassenden und positiven Zukunftsbilder der 17 SDGs kennenlernen und die Chancen und Herausforderungen der Umsetzung erarbeiten. Dabei orientieren wir uns an den sozialen\, ökologischen und ökonomischen Handlungsfeldern und berücksichtigen deren Wechselwirkungen sowie den globalen und menschheitsgeschichtlichen Kontext. \nWas nachhaltige Entwicklung auf lokaler Ebene bedeutet und mit welchen Schritten und Maßnahmen diese ermöglicht werden kann\, wird Kern unseres Seminars werden. \nTermine: \nDonnerstag\, 14. und 21. Oktober\, 11. und 18. November 2021 \nReferentin: Isabell Schäfer-Neudeck\, Lörrach \nAn-/Abmeldeschluss an VHS Lörrach: 8. Oktober 2021 \nHINWEIS:\nDie Seminarreihe findet im Meret-Oppenheimer-Schulzentrum in Steinen statt \n 
URL:https://test.fairnetzt-loerrach.de/veranstaltung/vhs-seminar-1-wirtschaft-fuer-das-gemeinwohl-einladung-zum-selbermachen-2-3/
LOCATION:Meret-Oppenheim-Schulzentrum\, Steinen\, Köchlinstraße\, Steinen\, 79585\, Deutschland
CATEGORIES:fairBRAUCHer,fairNETZt,SDGs
ATTACH;FMTTYPE=image/png:https://test.fairnetzt-loerrach.de/wp-content/uploads/2021/08/sdgs-die-un-nachhaltigkeits-ziele.png
ORGANIZER;CN="VHS L%C3%B6rrach":MAILTO:vhs@loerrach.de
END:VEVENT
BEGIN:VEVENT
DTSTART;TZID=Europe/Berlin:20211118T180000
DTEND;TZID=Europe/Berlin:20211118T210000
DTSTAMP:20260425T191214
CREATED:20210823T135232Z
LAST-MODIFIED:20210823T151532Z
UID:16436-1637258400-1637269200@test.fairnetzt-loerrach.de
SUMMARY:VHS Seminarreihe: Localise SDGs
DESCRIPTION:Was sind die 17 Ziele für nachhaltige Entwicklung und\nwie können wir sie lokal umsetzen?\nvierteilige VHS-Seminarreihe in Steinen\n2015 verabschieden193 Mitgliedstaaten der Vereinten Nationen die Agenda 2030 mit den\n17 Zielen für nachhaltige Entwicklung (SDGs\, Sustainable Development Goals). Sie sind ein „Weltzukunftsvertrag“\, mit dem sich die Staaten dazu verpflichten\, allen Menschen bis zum Jahr 2030 ein Leben in Würde\, Frieden und einer intakten Umwelt zu sichern. Schlussendlich bedeutet das auch für uns in Deutschland\, unsere Lebensweise zu verändern. \nIn dieser Seminarreihe wollen wir die umfassenden und positiven Zukunftsbilder der 17 SDGs kennenlernen und die Chancen und Herausforderungen der Umsetzung erarbeiten. Dabei orientieren wir uns an den sozialen\, ökologischen und ökonomischen Handlungsfeldern und berücksichtigen deren Wechselwirkungen sowie den globalen und menschheitsgeschichtlichen Kontext. \nWas nachhaltige Entwicklung auf lokaler Ebene bedeutet und mit welchen Schritten und Maßnahmen diese ermöglicht werden kann\, wird Kern unseres Seminars werden. \nTermine: \nDonnerstag\, 14. und 21. Oktober\, 11. und 18. November 2021 \nReferentin: Isabell Schäfer-Neudeck\, Lörrach \nAn-/Abmeldeschluss an VHS Lörrach: 8. Oktober 2021 \nHINWEIS:\nDie Seminarreihe findet im Meret-Oppenheimer-Schulzentrum in Steinen statt \n 
URL:https://test.fairnetzt-loerrach.de/veranstaltung/vhs-seminar-localise-sdgs-4/
LOCATION:Meret-Oppenheim-Schulzentrum\, Steinen\, Köchlinstraße\, Steinen\, 79585\, Deutschland
CATEGORIES:fairBRAUCHer,fairNETZt,SDGs
ATTACH;FMTTYPE=image/png:https://test.fairnetzt-loerrach.de/wp-content/uploads/2021/08/sdgs-die-un-nachhaltigkeits-ziele.png
ORGANIZER;CN="VHS L%C3%B6rrach":MAILTO:vhs@loerrach.de
END:VEVENT
BEGIN:VEVENT
DTSTART;TZID=Europe/Berlin:20211120T153000
DTEND;TZID=Europe/Berlin:20211120T223000
DTSTAMP:20260425T191214
CREATED:20211111T160759Z
LAST-MODIFIED:20211111T160759Z
UID:16758-1637422200-1637447400@test.fairnetzt-loerrach.de
SUMMARY:Filme für die Erde Festival
DESCRIPTION:Umweltfilme\, die inspiriern – herzlich willkommen – freier Eintritt – es gilt 2G \nProgramm \nab 14:30 Uhr Cafétrinken im Café Kirche \n16 – 17:20 Uhr Unser Boden\, unser Erbe \n17:20 – 17:35 Uhr Pause\, Erfrischung im Café\, erneuter Einlass \n17:35 – 19:05 Uhr Green Blood \n19:05 – 19:20 Uhr Pause\, erneuter Einlass \n19:20 – 19:50 Uhr Podiumsdiskussion zum Thema Boden\, Landwirtschaft und Umwelt \n19:50 – 20:00 Uhr Pause\, erneuter Einlass \n20:00 – 21:35 Uhr Heimat Natur \n22:30 Uhr Ende \nweitere Infos  unter www.ffde.eu/festival
URL:https://test.fairnetzt-loerrach.de/veranstaltung/filme-fuer-die-erde-festival-2/
LOCATION:Baden-Württemberg
CATEGORIES:Café Kirche
ATTACH;FMTTYPE=image/jpeg:https://test.fairnetzt-loerrach.de/wp-content/uploads/2021/11/image004.jpg
END:VEVENT
END:VCALENDAR