BEGIN:VCALENDAR
VERSION:2.0
PRODID:-//fairNETZt - ECPv6.5.1.3//NONSGML v1.0//EN
CALSCALE:GREGORIAN
METHOD:PUBLISH
X-WR-CALNAME:fairNETZt
X-ORIGINAL-URL:https://test.fairnetzt-loerrach.de
X-WR-CALDESC:Veranstaltungen für fairNETZt
REFRESH-INTERVAL;VALUE=DURATION:PT1H
X-Robots-Tag:noindex
X-PUBLISHED-TTL:PT1H
BEGIN:VTIMEZONE
TZID:Europe/Berlin
BEGIN:DAYLIGHT
TZOFFSETFROM:+0100
TZOFFSETTO:+0200
TZNAME:CEST
DTSTART:20180325T010000
END:DAYLIGHT
BEGIN:STANDARD
TZOFFSETFROM:+0200
TZOFFSETTO:+0100
TZNAME:CET
DTSTART:20181028T010000
END:STANDARD
END:VTIMEZONE
BEGIN:VEVENT
DTSTART;TZID=Europe/Berlin:20180910T190000
DTEND;TZID=Europe/Berlin:20180910T210000
DTSTAMP:20260419T231201
CREATED:20180819T152052Z
LAST-MODIFIED:20180819T152052Z
UID:5460-1536606000-1536613200@test.fairnetzt-loerrach.de
SUMMARY:Gesund ernährt durch Herbst und Winter - mit Hella Pflüger
DESCRIPTION:Der Naturheilverein Lörrach 1906 und Umgebung e.V. freut sich\, Sie zu der nächsten Veranstaltung einzuladen. \nAm \nMontag\, 10. September 2018 um 19.00 Uhr spricht Dipl. Ing. Hella Pflüger\, zertifizierte ganzheitliche Ernährungsberaterin aus Steinen\, zu dem Thema \nGesund ernährt durch Herbst und Winter\nWas trägt Ernährung zu guter körperlicher und geistiger Verfassung bei? \nWenn die Tage kürzer und dunkler werden\, wie gestalte ich dann die Ernährung um körperlich und mental fit zu bleiben\, ohne den Körper mit zu viel Zucker zu überfordern? \nIn dem etwa 60-minütigen Vortrag mit anschließender Diskussion geht es um den Zusammenhang zwischen Ernährung und körperlicher und geistiger Fitness\, insbesondere in den kälteren und dunkleren Tagen – auch wenn dies im jetzigen Spätsommer noch kaum vorstellbar ist. \nHella Pflüger arbeitete 27 Jahre als IT-Expertin in den Bereichen Datenbanken\, Programmierung und Webdesign/-entwicklung. Durch eigene Symptomerfahrungen beschäftigt sie sich schon seit mehr als 20 Jahren mit Ernährung und Entspannungsthemen. Sie absolvierte Ausbildungen zur Entspannungspädagogin\, zur Psychologischen Beraterin und zur Ganzheitlichen Ernährungsberaterin. \nSeit 2015 praktiziert sie erfolgreich den ganzheitlichen Beratungsansatz mit dem 3-Säulenmodell in eigener Praxis und bringt seit 2017 ihre Erfahrungen und Kompetenz als Dozentin an den Paracelsus Schulen ein. \nDer Vortrag findet wie immer statt im FREIraum\, Chesterplatz 9\, 2. OG\, in der Lörracher Innenstadt. \nDer Kostenbeitrag beträgt für Mitglieder 3 €\, für Gäste 5 €.
URL:https://test.fairnetzt-loerrach.de/veranstaltung/gesund-ernaehrt-durch-herbst-und-winter-mit-hella-pflueger/
LOCATION:FREIraum der Fritz-Berger-Stiftung\, Chesterplatz 9\, Lörrach\, 79540\, Deutschland
CATEGORIES:Naturheilverein
ATTACH;FMTTYPE=image/jpeg:https://test.fairnetzt-loerrach.de/wp-content/uploads/2018/07/naturheilverein-logo-home-slider.jpg
ORGANIZER;CN="Naturheilverein L%C3%B6rrach 1906 und Umgebung e.V.":MAILTO:info@naturheilverein-loerrach.de
END:VEVENT
END:VCALENDAR