BEGIN:VCALENDAR
VERSION:2.0
PRODID:-//fairNETZt - ECPv6.5.1.3//NONSGML v1.0//EN
CALSCALE:GREGORIAN
METHOD:PUBLISH
X-ORIGINAL-URL:https://test.fairnetzt-loerrach.de
X-WR-CALDESC:Veranstaltungen für fairNETZt
REFRESH-INTERVAL;VALUE=DURATION:PT1H
X-Robots-Tag:noindex
X-PUBLISHED-TTL:PT1H
BEGIN:VTIMEZONE
TZID:Europe/Berlin
BEGIN:DAYLIGHT
TZOFFSETFROM:+0100
TZOFFSETTO:+0200
TZNAME:CEST
DTSTART:20200329T010000
END:DAYLIGHT
BEGIN:STANDARD
TZOFFSETFROM:+0200
TZOFFSETTO:+0100
TZNAME:CET
DTSTART:20201025T010000
END:STANDARD
END:VTIMEZONE
BEGIN:VEVENT
DTSTART;TZID=Europe/Berlin:20200218T173000
DTEND;TZID=Europe/Berlin:20200218T210000
DTSTAMP:20260420T133336
CREATED:20191224T135553Z
LAST-MODIFIED:20200215T112353Z
UID:12451-1582047000-1582059600@test.fairnetzt-loerrach.de
SUMMARY:"Zielbild Lörrach 2025" Beratung / Entscheid im Gemeinderat?
DESCRIPTION:Quo vadis\, scopum imago? \nDer Gremienlauf zum „Zielbild 2025“ startete am 6.2.2020 im AUT \n… und endet heute mit welchem Entscheid? \nDiese Sitzung ist ausnahmsweise am Dienstag – Übermorgen werden nur Krawatten abgeschnitten 😉 \nDetails zum Thema sind im Blog zu finden. Siehe auch einen weiteren Kommentar \nDie Tagesordnung der Sitzung  ist auf der Webseite der Stadt veröffentlicht. \nHier der Link zum direkten Download der Beschlussvorlage – gegenüber der Vorlage vom 19.12.2019 inhaltlich unverändert.
URL:https://test.fairnetzt-loerrach.de/veranstaltung/zielbild-2025-im-aut-2-2/
LOCATION:Rathaus Lörrach\, Luisenstrasse 16\, Lörrach\, 79539\, Deutschland
CATEGORIES:Bürgerbeteiligung
ATTACH;FMTTYPE=image/png:https://test.fairnetzt-loerrach.de/wp-content/uploads/2015/12/Leitbild.png
END:VEVENT
END:VCALENDAR